BEGIN:VCALENDAR
VERSION:2.0
PRODID:-//TC Hinsbeck 1949 e.V. - ECPv6.15.20//NONSGML v1.0//EN
CALSCALE:GREGORIAN
METHOD:PUBLISH
X-ORIGINAL-URL:https://www.tc-hinsbeck.de
X-WR-CALDESC:Veranstaltungen für TC Hinsbeck 1949 e.V.
REFRESH-INTERVAL;VALUE=DURATION:PT1H
X-Robots-Tag:noindex
X-PUBLISHED-TTL:PT1H
BEGIN:VTIMEZONE
TZID:Europe/Berlin
BEGIN:DAYLIGHT
TZOFFSETFROM:+0100
TZOFFSETTO:+0200
TZNAME:CEST
DTSTART:20240331T010000
END:DAYLIGHT
BEGIN:STANDARD
TZOFFSETFROM:+0200
TZOFFSETTO:+0100
TZNAME:CET
DTSTART:20241027T010000
END:STANDARD
BEGIN:DAYLIGHT
TZOFFSETFROM:+0100
TZOFFSETTO:+0200
TZNAME:CEST
DTSTART:20250330T010000
END:DAYLIGHT
BEGIN:STANDARD
TZOFFSETFROM:+0200
TZOFFSETTO:+0100
TZNAME:CET
DTSTART:20251026T010000
END:STANDARD
BEGIN:DAYLIGHT
TZOFFSETFROM:+0100
TZOFFSETTO:+0200
TZNAME:CEST
DTSTART:20260329T010000
END:DAYLIGHT
BEGIN:STANDARD
TZOFFSETFROM:+0200
TZOFFSETTO:+0100
TZNAME:CET
DTSTART:20261025T010000
END:STANDARD
END:VTIMEZONE
BEGIN:VEVENT
DTSTART;TZID=Europe/Berlin:20250906T120000
DTEND;TZID=Europe/Berlin:20250906T160000
DTSTAMP:20260421T230746
CREATED:20250901T045426Z
LAST-MODIFIED:20250901T153618Z
UID:2434-1757160000-1757174400@www.tc-hinsbeck.de
SUMMARY:Tennis für alle Interessierten 06.09.2025
DESCRIPTION:Am Samstag\, den 06.09.2025 ist von 12:00 bis 16:00 Uhr für alle Tennisinteressierten unsere Anlage geöffnet. Alle Plätze sind bespielbar\, Schläger und Bälle können zur Verfügung gestellt werden und für das leibliche Wohl ist auch gesorgt. Also einfach vorbeikommen und in netter Gesellschaft ein paar Bälle spielen… Jede Altersklasse\, egal ob Anfänger oder Profi ist willkommen\, wir freuen uns auf Dich / Euch 🙂
URL:https://www.tc-hinsbeck.de/kalender/tennis-fuer-alle-ineressierten-06-09-2025/
CATEGORIES:Kalender
ATTACH;FMTTYPE=image/jpeg:https://www.tc-hinsbeck.de/wp-content/uploads/2022/11/HTC-Luftbild.jpg
END:VEVENT
END:VCALENDAR