BEGIN:VCALENDAR
VERSION:2.0
PRODID:-//TC Hinsbeck 1949 e.V. - ECPv6.15.20//NONSGML v1.0//EN
CALSCALE:GREGORIAN
METHOD:PUBLISH
X-ORIGINAL-URL:https://www.tc-hinsbeck.de
X-WR-CALDESC:Veranstaltungen für TC Hinsbeck 1949 e.V.
REFRESH-INTERVAL;VALUE=DURATION:PT1H
X-Robots-Tag:noindex
X-PUBLISHED-TTL:PT1H
BEGIN:VTIMEZONE
TZID:Europe/Berlin
BEGIN:DAYLIGHT
TZOFFSETFROM:+0100
TZOFFSETTO:+0200
TZNAME:CEST
DTSTART:20250330T010000
END:DAYLIGHT
BEGIN:STANDARD
TZOFFSETFROM:+0200
TZOFFSETTO:+0100
TZNAME:CET
DTSTART:20251026T010000
END:STANDARD
BEGIN:DAYLIGHT
TZOFFSETFROM:+0100
TZOFFSETTO:+0200
TZNAME:CEST
DTSTART:20260329T010000
END:DAYLIGHT
BEGIN:STANDARD
TZOFFSETFROM:+0200
TZOFFSETTO:+0100
TZNAME:CET
DTSTART:20261025T010000
END:STANDARD
BEGIN:DAYLIGHT
TZOFFSETFROM:+0100
TZOFFSETTO:+0200
TZNAME:CEST
DTSTART:20270328T010000
END:DAYLIGHT
BEGIN:STANDARD
TZOFFSETFROM:+0200
TZOFFSETTO:+0100
TZNAME:CET
DTSTART:20271031T010000
END:STANDARD
END:VTIMEZONE
BEGIN:VEVENT
DTSTART;TZID=Europe/Berlin:20260531T090000
DTEND;TZID=Europe/Berlin:20260531T180000
DTSTAMP:20260421T112318
CREATED:20260417T103302Z
LAST-MODIFIED:20260417T103303Z
UID:2516-1780218000-1780250400@www.tc-hinsbeck.de
SUMMARY:Am 31.05.2026 findet das Medenspiele der Damen 50 gegen die Damen des TV Lobberich 1 statt.
DESCRIPTION:Heute spielen unsere Damen 50 ab 09:00 Uhr gegen den TV Lobberich 1. Das Spiel findet auf unserer Anlage statt. Zuschauer sind gerne willkommen.
URL:https://www.tc-hinsbeck.de/kalender/am-31-05-2026-findet-das-medenspiele-der-damen-50-gegen-die-damen-des-tv-lobberich-1-statt/
CATEGORIES:Kalender
ATTACH;FMTTYPE=image/jpeg:https://www.tc-hinsbeck.de/wp-content/uploads/2022/11/HTC-Luftbild.jpg
END:VEVENT
END:VCALENDAR