BEGIN:VCALENDAR
VERSION:2.0
PRODID:-//TC Hinsbeck 1949 e.V. - ECPv6.15.20//NONSGML v1.0//EN
CALSCALE:GREGORIAN
METHOD:PUBLISH
X-WR-CALNAME:TC Hinsbeck 1949 e.V.
X-ORIGINAL-URL:https://www.tc-hinsbeck.de
X-WR-CALDESC:Veranstaltungen für TC Hinsbeck 1949 e.V.
REFRESH-INTERVAL;VALUE=DURATION:PT1H
X-Robots-Tag:noindex
X-PUBLISHED-TTL:PT1H
BEGIN:VTIMEZONE
TZID:Europe/Berlin
BEGIN:DAYLIGHT
TZOFFSETFROM:+0100
TZOFFSETTO:+0200
TZNAME:CEST
DTSTART:20230326T010000
END:DAYLIGHT
BEGIN:STANDARD
TZOFFSETFROM:+0200
TZOFFSETTO:+0100
TZNAME:CET
DTSTART:20231029T010000
END:STANDARD
BEGIN:DAYLIGHT
TZOFFSETFROM:+0100
TZOFFSETTO:+0200
TZNAME:CEST
DTSTART:20240331T010000
END:DAYLIGHT
BEGIN:STANDARD
TZOFFSETFROM:+0200
TZOFFSETTO:+0100
TZNAME:CET
DTSTART:20241027T010000
END:STANDARD
BEGIN:DAYLIGHT
TZOFFSETFROM:+0100
TZOFFSETTO:+0200
TZNAME:CEST
DTSTART:20250330T010000
END:DAYLIGHT
BEGIN:STANDARD
TZOFFSETFROM:+0200
TZOFFSETTO:+0100
TZNAME:CET
DTSTART:20251026T010000
END:STANDARD
BEGIN:DAYLIGHT
TZOFFSETFROM:+0100
TZOFFSETTO:+0200
TZNAME:CEST
DTSTART:20260329T010000
END:DAYLIGHT
BEGIN:STANDARD
TZOFFSETFROM:+0200
TZOFFSETTO:+0100
TZNAME:CET
DTSTART:20261025T010000
END:STANDARD
BEGIN:DAYLIGHT
TZOFFSETFROM:+0100
TZOFFSETTO:+0200
TZNAME:CEST
DTSTART:20270328T010000
END:DAYLIGHT
BEGIN:STANDARD
TZOFFSETFROM:+0200
TZOFFSETTO:+0100
TZNAME:CET
DTSTART:20271031T010000
END:STANDARD
END:VTIMEZONE
BEGIN:VEVENT
DTSTART;TZID=Europe/Berlin:20260411T100000
DTEND;TZID=Europe/Berlin:20260411T150000
DTSTAMP:20260419T143334
CREATED:20260316T162209Z
LAST-MODIFIED:20260317T084714Z
UID:2482-1775901600-1775919600@www.tc-hinsbeck.de
SUMMARY:Am 11.04.2025 findet das zweite Treffen statt um unsere Anlage für die Saison 2026 fit zu machen.
DESCRIPTION:Auch heute ist jede helfende Hand willkommen… viele Hände schnelles Ende… 😉
URL:https://www.tc-hinsbeck.de/kalender/am-11-04-2025-findet-das-zweitetreffen-statt-um-unsere-anlage-fuer-die-saison-2026-fit-zu-machen/
CATEGORIES:Kalender
ATTACH;FMTTYPE=image/jpeg:https://www.tc-hinsbeck.de/wp-content/uploads/2022/11/HTC-Luftbild.jpg
END:VEVENT
BEGIN:VEVENT
DTSTART;TZID=Europe/Berlin:20260404T100000
DTEND;TZID=Europe/Berlin:20260404T150000
DTSTAMP:20260419T143334
CREATED:20260316T161957Z
LAST-MODIFIED:20260316T161958Z
UID:2480-1775296800-1775314800@www.tc-hinsbeck.de
SUMMARY:Am 04.04.2025 findet das erste Treffen statt um unsere Anlage für die Saison 2026 fit zu machen.
DESCRIPTION:Jede helfende Hand ist willkommen… viele Hände schnelles Ende… 😉
URL:https://www.tc-hinsbeck.de/kalender/am-04-04-2025-findet-das-erste-treffen-statt-um-unsere-anlage-fuer-die-saison-2026-fit-zu-machen/
CATEGORIES:Kalender
ATTACH;FMTTYPE=image/jpeg:https://www.tc-hinsbeck.de/wp-content/uploads/2022/11/HTC-Luftbild.jpg
END:VEVENT
BEGIN:VEVENT
DTSTART;TZID=Europe/Berlin:20251206T000000
DTEND;TZID=Europe/Berlin:20251206T235959
DTSTAMP:20260419T143334
CREATED:20250610T123250Z
LAST-MODIFIED:20250710T042758Z
UID:2358-1764979200-1765065599@www.tc-hinsbeck.de
SUMMARY:Am 06.12.2025 ist das Clubhaus vermietet.
DESCRIPTION:Bitte beachtet\, dass ihr an dem Tag nicht ins Clubhaus könnt.
URL:https://www.tc-hinsbeck.de/kalender/am-06-12-2025-ist-das-clubhaus-vermietet/
CATEGORIES:Kalender
ATTACH;FMTTYPE=image/jpeg:https://www.tc-hinsbeck.de/wp-content/uploads/2022/11/HTC-Luftbild.jpg
END:VEVENT
BEGIN:VEVENT
DTSTART;TZID=Europe/Berlin:20251004T000000
DTEND;TZID=Europe/Berlin:20251004T235959
DTSTAMP:20260419T143334
CREATED:20250710T043712Z
LAST-MODIFIED:20250710T043712Z
UID:2378-1759536000-1759622399@www.tc-hinsbeck.de
SUMMARY:Am 04.10.2025 sind die Duschen des Clubhaus vermietet.
DESCRIPTION:Bitte beachtet\, dass ihr an dem Tag die Duschen im Clubhaus nicht nutzen könnt. Die Duschen und Toiletten sind für die Europameisterschaft im Waldlauf der Justiz vermietet. Tennisspielen ist trotzdem möglich!
URL:https://www.tc-hinsbeck.de/kalender/am-04-10-2025-sind-die-duschen-des-clubhaus-vermietet/
CATEGORIES:Kalender
ATTACH;FMTTYPE=image/jpeg:https://www.tc-hinsbeck.de/wp-content/uploads/2022/11/HTC-Luftbild.jpg
END:VEVENT
BEGIN:VEVENT
DTSTART;TZID=Europe/Berlin:20250920T000000
DTEND;TZID=Europe/Berlin:20250920T235959
DTSTAMP:20260419T143334
CREATED:20250710T044252Z
LAST-MODIFIED:20250710T044252Z
UID:2380-1758326400-1758412799@www.tc-hinsbeck.de
SUMMARY:Am 20.09.2025 Finale Clubmeisterschaft Austragung der Final Four und Siegerehrung.
DESCRIPTION:Am Samstag den 20.09. ist das Finale der Clubmeisterschaft. Heute wird im Final Four der Clubmeister ausgespielt.
URL:https://www.tc-hinsbeck.de/kalender/am-20-09-2025-finale-clubmeisterschaft-austragung-der-final-four-und-siegerehrung/
CATEGORIES:Kalender
ATTACH;FMTTYPE=image/jpeg:https://www.tc-hinsbeck.de/wp-content/uploads/2022/11/HTC-Luftbild.jpg
END:VEVENT
BEGIN:VEVENT
DTSTART;TZID=Europe/Berlin:20250913T000000
DTEND;TZID=Europe/Berlin:20250913T235959
DTSTAMP:20260419T143334
CREATED:20250710T043533Z
LAST-MODIFIED:20250710T043534Z
UID:2376-1757721600-1757807999@www.tc-hinsbeck.de
SUMMARY:Am 13.09.2025 sind die Duschen des Clubhaus vermietet.
DESCRIPTION:Bitte beachtet\, dass ihr an dem Tag die Duschen im Clubhaus nicht nutzen könnt. Die Duschen und Toiletten sind für die deutsche Meisterschaft im Waldlauf der Justiz vermietet. Tennisspielen ist trotzdem möglich!
URL:https://www.tc-hinsbeck.de/kalender/am-13-09-2025-sind-die-duschen-des-clubhaus-vermietet/
CATEGORIES:Kalender
ATTACH;FMTTYPE=image/jpeg:https://www.tc-hinsbeck.de/wp-content/uploads/2022/11/HTC-Luftbild.jpg
END:VEVENT
BEGIN:VEVENT
DTSTART;TZID=Europe/Berlin:20250912T000000
DTEND;TZID=Europe/Berlin:20250912T235959
DTSTAMP:20260419T143334
CREATED:20250710T042837Z
LAST-MODIFIED:20250710T042902Z
UID:2373-1757635200-1757721599@www.tc-hinsbeck.de
SUMMARY:Am 12.09.2025 ist das Clubhaus vermietet.
DESCRIPTION:Bitte beachtet\, dass ihr an dem Tag nicht ins Clubhaus könnt.
URL:https://www.tc-hinsbeck.de/kalender/am-12-09-2025-ist-das-clubhaus-vermietet-copy/
CATEGORIES:Kalender
ATTACH;FMTTYPE=image/jpeg:https://www.tc-hinsbeck.de/wp-content/uploads/2022/11/HTC-Luftbild.jpg
END:VEVENT
BEGIN:VEVENT
DTSTART;TZID=Europe/Berlin:20250906T120000
DTEND;TZID=Europe/Berlin:20250906T160000
DTSTAMP:20260419T143334
CREATED:20250901T045426Z
LAST-MODIFIED:20250901T153618Z
UID:2434-1757160000-1757174400@www.tc-hinsbeck.de
SUMMARY:Tennis für alle Interessierten 06.09.2025
DESCRIPTION:Am Samstag\, den 06.09.2025 ist von 12:00 bis 16:00 Uhr für alle Tennisinteressierten unsere Anlage geöffnet. Alle Plätze sind bespielbar\, Schläger und Bälle können zur Verfügung gestellt werden und für das leibliche Wohl ist auch gesorgt. Also einfach vorbeikommen und in netter Gesellschaft ein paar Bälle spielen… Jede Altersklasse\, egal ob Anfänger oder Profi ist willkommen\, wir freuen uns auf Dich / Euch 🙂
URL:https://www.tc-hinsbeck.de/kalender/tennis-fuer-alle-ineressierten-06-09-2025/
CATEGORIES:Kalender
ATTACH;FMTTYPE=image/jpeg:https://www.tc-hinsbeck.de/wp-content/uploads/2022/11/HTC-Luftbild.jpg
END:VEVENT
BEGIN:VEVENT
DTSTART;TZID=Europe/Berlin:20250823T000000
DTEND;TZID=Europe/Berlin:20250823T235959
DTSTAMP:20260419T143334
CREATED:20250610T123127Z
LAST-MODIFIED:20250610T123128Z
UID:2356-1755907200-1755993599@www.tc-hinsbeck.de
SUMMARY:Am 23.08.2025 ist das Clubhaus vermietet.
DESCRIPTION:Bitte beachtet\, dass ihr an dem Tag nicht ins Clubhaus könnt.
URL:https://www.tc-hinsbeck.de/kalender/am-23-08-2025-ist-das-clubhaus-vermietet/
CATEGORIES:Kalender
ATTACH;FMTTYPE=image/jpeg:https://www.tc-hinsbeck.de/wp-content/uploads/2022/11/HTC-Luftbild.jpg
END:VEVENT
BEGIN:VEVENT
DTSTART;TZID=Europe/Berlin:20250802T000000
DTEND;TZID=Europe/Berlin:20250802T235959
DTSTAMP:20260419T143334
CREATED:20250610T123004Z
LAST-MODIFIED:20250610T123004Z
UID:2354-1754092800-1754179199@www.tc-hinsbeck.de
SUMMARY:Am 02.08.2025 ist das Clubhaus vermietet.
DESCRIPTION:Bitte beachtet\, dass ihr an dem Tag nicht ins Clubhaus könnt.
URL:https://www.tc-hinsbeck.de/kalender/am-02-08-2025-ist-das-clubhaus-vermietet/
CATEGORIES:Kalender
ATTACH;FMTTYPE=image/jpeg:https://www.tc-hinsbeck.de/wp-content/uploads/2022/11/HTC-Luftbild.jpg
END:VEVENT
BEGIN:VEVENT
DTSTART;TZID=Europe/Berlin:20250705T140000
DTEND;TZID=Europe/Berlin:20250705T210000
DTSTAMP:20260419T143334
CREATED:20250603T081959Z
LAST-MODIFIED:20250603T082000Z
UID:2340-1751724000-1751749200@www.tc-hinsbeck.de
SUMMARY:Am 05.07.2025 findet auswärts das letzte Medenspiel der Damen 40 gegen den TG Brüggen 1 statt.
DESCRIPTION:Heute spielen unsere Damen 40 ab 14:00 Uhr ihr letztes Medenspiel für diese Sommersaison auswärts gegen den TG Brüggen 1. Das Spiel findet in Brüggen statt. Zuschauer die unsere Damen anfeuern sind trotzdem gerne willkommen… 🙂
URL:https://www.tc-hinsbeck.de/kalender/am-05-07-2025-findet-auswaerts-das-letzte-medenspiel-der-damen-40-gegen-den-tg-brueggen-1-statt/
CATEGORIES:Kalender
ATTACH;FMTTYPE=image/jpeg:https://www.tc-hinsbeck.de/wp-content/uploads/2022/11/HTC-Luftbild.jpg
END:VEVENT
BEGIN:VEVENT
DTSTART;TZID=Europe/Berlin:20250628T140000
DTEND;TZID=Europe/Berlin:20250628T210000
DTSTAMP:20260419T143334
CREATED:20250603T081502Z
LAST-MODIFIED:20250625T055522Z
UID:2338-1751119200-1751144400@www.tc-hinsbeck.de
SUMMARY:Am 28.06.2025 findet das Medenspiel der Damen 40 gegen Casino Kempen 1 statt.
DESCRIPTION:Heute spielen unsere Damen 40 ab 14:00 Uhr gegen Casino Kempen 1. Das Spiel findet auf unserer Anlage in Hinsbeck statt. Zuschauer sind gerne willkommen.
URL:https://www.tc-hinsbeck.de/kalender/am-21-06-2025-findet-das-medenspiel-der-damen-40-gegen-casino-kempen-1-statt/
CATEGORIES:Kalender
ATTACH;FMTTYPE=image/jpeg:https://www.tc-hinsbeck.de/wp-content/uploads/2022/11/HTC-Luftbild.jpg
END:VEVENT
BEGIN:VEVENT
DTSTART;TZID=Europe/Berlin:20250615T090000
DTEND;TZID=Europe/Berlin:20250615T150000
DTSTAMP:20260419T143334
CREATED:20250519T100351Z
LAST-MODIFIED:20250519T100351Z
UID:2290-1749978000-1749999600@www.tc-hinsbeck.de
SUMMARY:Am 15.06.2025 findet auswärts das Medenspiel der Damen 40 gegen den TG Waldniel 2 statt.
DESCRIPTION:Heute spielen unsere Damen 40 ab 9:00 Uhr gegen den TG Waldniel 2. Das Spiel findet in Waldniel statt. Zuschauer sind trotzdem gerne willkommen.
URL:https://www.tc-hinsbeck.de/kalender/am-15-06-2025-findet-auswaerts-das-medenspiel-der-damen-40-gegen-den-tg-waldniel-2-statt/
CATEGORIES:Kalender
ATTACH;FMTTYPE=image/jpeg:https://www.tc-hinsbeck.de/wp-content/uploads/2022/11/HTC-Luftbild.jpg
END:VEVENT
BEGIN:VEVENT
DTSTART;TZID=Europe/Berlin:20250531T140000
DTEND;TZID=Europe/Berlin:20250531T210000
DTSTAMP:20260419T143334
CREATED:20250519T095352Z
LAST-MODIFIED:20250519T095352Z
UID:2288-1748700000-1748725200@www.tc-hinsbeck.de
SUMMARY:Am 31.05.2025 findet das Medenspiel der Damen 40 gegen den TC Schiefbahn 1 statt.
DESCRIPTION:Heute spielen unsere Damen 40 ab 14 Uhr gegen den TC Schiefbahn 1. Zuschauer sind gerne willkommen.
URL:https://www.tc-hinsbeck.de/kalender/am-31-05-2025-findet-das-medenspiel-der-damen-40-gegen-den-tc-schiefbahn-1-statt/
CATEGORIES:Kalender
ATTACH;FMTTYPE=image/jpeg:https://www.tc-hinsbeck.de/wp-content/uploads/2022/11/HTC-Luftbild.jpg
END:VEVENT
BEGIN:VEVENT
DTSTART;TZID=Europe/Berlin:20250525T110000
DTEND;TZID=Europe/Berlin:20250525T200000
DTSTAMP:20260419T143334
CREATED:20250407T160354Z
LAST-MODIFIED:20250525T082145Z
UID:2242-1748170800-1748203200@www.tc-hinsbeck.de
SUMMARY:!! ABGESAGT !! Am 25.05.2025 ist die Saisoneröffnung und Tag der offenen Tür.
DESCRIPTION:Liebe Mitglieder und Freunde des TC Hinsbeck 1949 e.V.\,die neue Tennissaison steht vor der Tür! Wir laden euch herzlich zur Saisoneröffnung und unserem Tag der offenen Tür ein. Erlebt gemeinsam mit uns einen spannenden und aktiven Tag auf unseren wunderschönen Tennisplätzen.Wann? Sonntag den 25.05.2025 ab 11:00 UhrEs erwarten euch spannende Matches\, die Möglichkeit\, unser Clubgelände zu besichtigen\, und viele Infos rund um unsere Aktivitäten und Mitgliedschaften. Bei Snacks und Getränken möchten wir einen entspannten Nachmittag verbringen und freuen uns\, euch begrüßen zu dürfen!Kommt vorbei\, bringt Familie und Freunde mit – wir freuen uns auf euch!Euer TC Hinsbeck 1949 e.V.
URL:https://www.tc-hinsbeck.de/kalender/am-25-05-2025-ist-die-saisoneroeffnung-und-tag-der-offenen-tuer/
CATEGORIES:Kalender
ATTACH;FMTTYPE=image/jpeg:https://www.tc-hinsbeck.de/wp-content/uploads/2022/11/HTC-Luftbild.jpg
END:VEVENT
BEGIN:VEVENT
DTSTART;TZID=Europe/Berlin:20250517T140000
DTEND;TZID=Europe/Berlin:20250517T210000
DTSTAMP:20260419T143334
CREATED:20250313T133025Z
LAST-MODIFIED:20250313T133025Z
UID:2233-1747490400-1747515600@www.tc-hinsbeck.de
SUMMARY:Am 17.05.2025 findet das Medenspiel der Damen 40 gegen den TSV Kaldenkirchen 1 statt.
DESCRIPTION:Heute spielen unsere Damen 40 ab 14 Uhr gegen den TSV Kaldenkirchen 1. Zuschauer sind gerne willkommen.
URL:https://www.tc-hinsbeck.de/kalender/am-17-05-2025-findet-das-medenspiel-der-damen-40-gegen-den-tsv-kaldenkirchen-1-statt/
CATEGORIES:Kalender
ATTACH;FMTTYPE=image/jpeg:https://www.tc-hinsbeck.de/wp-content/uploads/2022/11/HTC-Luftbild.jpg
END:VEVENT
BEGIN:VEVENT
DTSTART;TZID=Europe/Berlin:20250503T000000
DTEND;TZID=Europe/Berlin:20250503T235959
DTSTAMP:20260419T143334
CREATED:20250310T072542Z
LAST-MODIFIED:20250310T072543Z
UID:2226-1746230400-1746316799@www.tc-hinsbeck.de
SUMMARY:Am 03.05.2025 ist das Clubhaus vermietet.
DESCRIPTION:Bitte beachtet\, dass ihr an dem Tag nicht ins Clubhaus könnt.
URL:https://www.tc-hinsbeck.de/kalender/am-03-05-2025-ist-das-clubhaus-vermietet/
CATEGORIES:Kalender
ATTACH;FMTTYPE=image/jpeg:https://www.tc-hinsbeck.de/wp-content/uploads/2022/11/HTC-Luftbild.jpg
END:VEVENT
BEGIN:VEVENT
DTSTART;TZID=Europe/Berlin:20250322T000000
DTEND;TZID=Europe/Berlin:20250322T235959
DTSTAMP:20260419T143334
CREATED:20250307T164857Z
LAST-MODIFIED:20250310T072620Z
UID:2223-1742601600-1742687999@www.tc-hinsbeck.de
SUMMARY:Am 22.03.2025 ist das Clubhaus vermietet.
DESCRIPTION:Bitte beachtet\, dass ihr an dem Tag nicht ins Clubhaus könnt.
URL:https://www.tc-hinsbeck.de/kalender/am-22-03-2025-ist-das-clubhaus-vermietet/
CATEGORIES:Kalender
ATTACH;FMTTYPE=image/jpeg:https://www.tc-hinsbeck.de/wp-content/uploads/2022/11/HTC-Luftbild.jpg
END:VEVENT
BEGIN:VEVENT
DTSTART;TZID=Europe/Berlin:20250316T000000
DTEND;TZID=Europe/Berlin:20250316T235959
DTSTAMP:20260419T143334
CREATED:20250203T132646Z
LAST-MODIFIED:20250310T072641Z
UID:2210-1742083200-1742169599@www.tc-hinsbeck.de
SUMMARY:Am 16.03.2025 ist das Clubhaus vermietet.
DESCRIPTION:Bitte beachtet\, dass ihr an dem Tag nicht ins Clubhaus könnt.
URL:https://www.tc-hinsbeck.de/kalender/am-16-03-2025-ist-das-clubhaus-vermietet/
CATEGORIES:Kalender
ATTACH;FMTTYPE=image/jpeg:https://www.tc-hinsbeck.de/wp-content/uploads/2022/11/HTC-Luftbild.jpg
END:VEVENT
BEGIN:VEVENT
DTSTART;TZID=Europe/Berlin:20250315T000000
DTEND;TZID=Europe/Berlin:20250315T235900
DTSTAMP:20260419T143334
CREATED:20250307T164815Z
LAST-MODIFIED:20250310T072715Z
UID:2221-1741996800-1742083140@www.tc-hinsbeck.de
SUMMARY:Am 15.03.2025 ist das Clubhaus vermietet.
DESCRIPTION:Bitte beachtet\, dass ihr an dem Tag nicht ins Clubhaus könnt.
URL:https://www.tc-hinsbeck.de/kalender/am-15-03-2025-ist-das-clubhaus-vermietet/
CATEGORIES:Kalender
ATTACH;FMTTYPE=image/jpeg:https://www.tc-hinsbeck.de/wp-content/uploads/2022/11/HTC-Luftbild.jpg
END:VEVENT
BEGIN:VEVENT
DTSTART;TZID=Europe/Berlin:20250302T000000
DTEND;TZID=Europe/Berlin:20250302T235959
DTSTAMP:20260419T143334
CREATED:20250203T132557Z
LAST-MODIFIED:20250203T132557Z
UID:2209-1740873600-1740959999@www.tc-hinsbeck.de
SUMMARY:Am 02.03.2025 ist das Clubhaus vermietet.
DESCRIPTION:Bitte beachtet\, dass ihr an den Tagen nicht ins Clubhaus könnt.
URL:https://www.tc-hinsbeck.de/kalender/am-02-03-2025-ist-das-clubhaus-vermietet/
CATEGORIES:Kalender
ATTACH;FMTTYPE=image/jpeg:https://www.tc-hinsbeck.de/wp-content/uploads/2022/11/HTC-Luftbild.jpg
END:VEVENT
BEGIN:VEVENT
DTSTART;TZID=Europe/Berlin:20250215T000000
DTEND;TZID=Europe/Berlin:20250215T235959
DTSTAMP:20260419T143334
CREATED:20250203T132458Z
LAST-MODIFIED:20250203T132458Z
UID:2208-1739577600-1739663999@www.tc-hinsbeck.de
SUMMARY:Am 15.02.2025 ist das Clubhaus vermietet.
DESCRIPTION:Bitte beachtet\, dass ihr an den Tagen nicht ins Clubhaus könnt.
URL:https://www.tc-hinsbeck.de/kalender/am-15-02-2025-ist-das-clubhaus-vermietet/
CATEGORIES:Kalender
ATTACH;FMTTYPE=image/jpeg:https://www.tc-hinsbeck.de/wp-content/uploads/2022/11/HTC-Luftbild.jpg
END:VEVENT
BEGIN:VEVENT
DTSTART;TZID=Europe/Berlin:20250118T000000
DTEND;TZID=Europe/Berlin:20250118T235959
DTSTAMP:20260419T143334
CREATED:20241122T103736Z
LAST-MODIFIED:20241122T103737Z
UID:2193-1737158400-1737244799@www.tc-hinsbeck.de
SUMMARY:Am 18.01.2025 ist das Clubhaus vermietet.
DESCRIPTION:Bitte beachtet\, dass ihr an den Tagen nicht ins Clubhaus könnt.
URL:https://www.tc-hinsbeck.de/kalender/am-18-01-2025-ist-das-clubhaus-vermietet/
CATEGORIES:Kalender
ATTACH;FMTTYPE=image/jpeg:https://www.tc-hinsbeck.de/wp-content/uploads/2022/11/HTC-Luftbild.jpg
END:VEVENT
BEGIN:VEVENT
DTSTART;TZID=Europe/Berlin:20250110T000000
DTEND;TZID=Europe/Berlin:20250110T235959
DTSTAMP:20260419T143334
CREATED:20241122T103638Z
LAST-MODIFIED:20241122T103639Z
UID:2191-1736467200-1736553599@www.tc-hinsbeck.de
SUMMARY:Am 10.01.2025 ist das Clubhaus vermietet.
DESCRIPTION:Bitte beachtet\, dass ihr an den Tagen nicht ins Clubhaus könnt.
URL:https://www.tc-hinsbeck.de/kalender/am-10-01-2025-ist-das-clubhaus-vermietet/
CATEGORIES:Kalender
ATTACH;FMTTYPE=image/jpeg:https://www.tc-hinsbeck.de/wp-content/uploads/2022/11/HTC-Luftbild.jpg
END:VEVENT
BEGIN:VEVENT
DTSTART;TZID=Europe/Berlin:20241011T000000
DTEND;TZID=Europe/Berlin:20241012T235959
DTSTAMP:20260419T143334
CREATED:20240927T091653Z
LAST-MODIFIED:20240927T091654Z
UID:2184-1728604800-1728777599@www.tc-hinsbeck.de
SUMMARY:Am 11. u. 12.10.2024 ist das Clubhaus vermietet.
DESCRIPTION:Bitte beachtet\, dass ihr an den Tagen nicht ins Clubhaus könnt.
URL:https://www.tc-hinsbeck.de/kalender/am-11-u-12-10-2024-ist-das-clubhaus-vermietet/
CATEGORIES:Kalender
ATTACH;FMTTYPE=image/jpeg:https://www.tc-hinsbeck.de/wp-content/uploads/2022/11/HTC-Luftbild.jpg
END:VEVENT
BEGIN:VEVENT
DTSTART;TZID=Europe/Berlin:20240920T000000
DTEND;TZID=Europe/Berlin:20240921T235959
DTSTAMP:20260419T143334
CREATED:20240510T054333Z
LAST-MODIFIED:20240510T054334Z
UID:2114-1726790400-1726963199@www.tc-hinsbeck.de
SUMMARY:Am 20. u. 21.09.2024 ist das Clubhaus vermietet.
DESCRIPTION:Bitte beachtet\, dass ihr an den Tagen nicht ins Clubhaus könnt.
URL:https://www.tc-hinsbeck.de/kalender/am-20-u-21-09-2024-ist-das-clubhaus-vermietet/
CATEGORIES:Kalender
ATTACH;FMTTYPE=image/jpeg:https://www.tc-hinsbeck.de/wp-content/uploads/2022/11/HTC-Luftbild.jpg
END:VEVENT
BEGIN:VEVENT
DTSTART;TZID=Europe/Berlin:20240914T140000
DTEND;TZID=Europe/Berlin:20240914T220000
DTSTAMP:20260419T143334
CREATED:20240719T073039Z
LAST-MODIFIED:20240719T073040Z
UID:2145-1726322400-1726351200@www.tc-hinsbeck.de
SUMMARY:Mixed-Turnier für Jedermann/frau ab 14 Uhr
DESCRIPTION:Wer Teilnehmen möchte kann sich gerne in der WhatApp Gruppe eintragen oder die sonstigen Kanäle nutzen. Es werden Doppelpaare gelost… Jeder kann mitspielen ob Anfänger oder Profi…
URL:https://www.tc-hinsbeck.de/kalender/mixed-turnier-fuer-jedermann-frau-ab-14-uhr-2/
CATEGORIES:Kalender
ATTACH;FMTTYPE=image/jpeg:https://www.tc-hinsbeck.de/wp-content/uploads/2022/11/HTC-Luftbild.jpg
END:VEVENT
BEGIN:VEVENT
DTSTART;TZID=Europe/Berlin:20240907T110000
DTEND;TZID=Europe/Berlin:20240907T235959
DTSTAMP:20260419T143334
CREATED:20240823T071936Z
LAST-MODIFIED:20240823T072055Z
UID:2156-1725706800-1725753599@www.tc-hinsbeck.de
SUMMARY:AH Tennisturnier Rhenania Hinsbeck
DESCRIPTION:Die Alten Herren von Rhenania Hinsbeck tragen den Pitter-Heyer-Wacholder Cup 2024 (Tennisturnier) aus.Start ist 11 Uhr und das Startgeld beträgt 20\,- EUR. \n\n\n\n\n\n\n\n\n\nShadow of a woman playing tennis
URL:https://www.tc-hinsbeck.de/kalender/ah-tennisturnier-rhenania-hinsbeck/
CATEGORIES:Kalender
ATTACH;FMTTYPE=image/jpeg:https://www.tc-hinsbeck.de/wp-content/uploads/2023/05/tennis-g2ff4cc4d9_1920.jpg
END:VEVENT
BEGIN:VEVENT
DTSTART;TZID=Europe/Berlin:20240830T170000
DTEND;TZID=Europe/Berlin:20240831T090000
DTSTAMP:20260419T143334
CREATED:20240823T075631Z
LAST-MODIFIED:20240823T075735Z
UID:2158-1725037200-1725094800@www.tc-hinsbeck.de
SUMMARY:Jugendkreismeisterschaften
DESCRIPTION:Am Freitag ab 17 Uhr und am Samstag ab 9 Uhr finden die Jugendkreismeisterschaften auf unserer Anlage statt. Wer unterstützen möchte ist gerne willkommen. 🙂
URL:https://www.tc-hinsbeck.de/kalender/jugendkreismeisterschaften/
CATEGORIES:Kalender
ATTACH;FMTTYPE=image/jpeg:https://www.tc-hinsbeck.de/wp-content/uploads/2022/11/HTC-Luftbild.jpg
END:VEVENT
BEGIN:VEVENT
DTSTART;TZID=Europe/Berlin:20240817T140000
DTEND;TZID=Europe/Berlin:20240817T220000
DTSTAMP:20260419T143334
CREATED:20240719T072929Z
LAST-MODIFIED:20240719T072930Z
UID:2143-1723903200-1723932000@www.tc-hinsbeck.de
SUMMARY:Mixed-Turnier für Jedermann/frau ab 14 Uhr
DESCRIPTION:Wer Teilnehmen möchte kann sich gerne in der WhatApp Gruppe eintragen oder die sonstigen Kanäle nutzen. Es werden Doppelpaare gelost… Jeder kann mitspielen ob Anfänger oder Profi…
URL:https://www.tc-hinsbeck.de/kalender/mixed-turnier-fuer-jedermann-frau-ab-14-uhr/
CATEGORIES:Kalender
ATTACH;FMTTYPE=image/jpeg:https://www.tc-hinsbeck.de/wp-content/uploads/2022/11/HTC-Luftbild.jpg
END:VEVENT
END:VCALENDAR