BEGIN:VCALENDAR
VERSION:2.0
PRODID:-//TC Hinsbeck 1949 e.V. - ECPv6.15.20//NONSGML v1.0//EN
CALSCALE:GREGORIAN
METHOD:PUBLISH
X-WR-CALNAME:TC Hinsbeck 1949 e.V.
X-ORIGINAL-URL:https://www.tc-hinsbeck.de
X-WR-CALDESC:Veranstaltungen für TC Hinsbeck 1949 e.V.
REFRESH-INTERVAL;VALUE=DURATION:PT1H
X-Robots-Tag:noindex
X-PUBLISHED-TTL:PT1H
BEGIN:VTIMEZONE
TZID:UTC
BEGIN:STANDARD
TZOFFSETFROM:+0000
TZOFFSETTO:+0000
TZNAME:UTC
DTSTART:20220101T000000
END:STANDARD
END:VTIMEZONE
BEGIN:VEVENT
DTSTART;TZID=UTC:20230630T000000
DTEND;TZID=UTC:20230630T235959
DTSTAMP:20260423T184459
CREATED:20230312T125018Z
LAST-MODIFIED:20230802T100520Z
UID:682-1688083200-1688169599@www.tc-hinsbeck.de
SUMMARY:Am 30.06.2023 ist das Clubhaus vermietet.
DESCRIPTION:Bitte beachtet\, das ihr an dem Tag nicht ins Clubhaus kommt….
URL:https://www.tc-hinsbeck.de/kalender/vermietung-clubhaus/
CATEGORIES:Kalender
ATTACH;FMTTYPE=image/jpeg:https://www.tc-hinsbeck.de/wp-content/uploads/2022/11/clubhausaussen1.jpg
END:VEVENT
END:VCALENDAR