BEGIN:VCALENDAR
VERSION:2.0
PRODID:-//TC Hinsbeck 1949 e.V. - ECPv6.15.20//NONSGML v1.0//EN
CALSCALE:GREGORIAN
METHOD:PUBLISH
X-WR-CALNAME:TC Hinsbeck 1949 e.V.
X-ORIGINAL-URL:https://www.tc-hinsbeck.de
X-WR-CALDESC:Veranstaltungen für TC Hinsbeck 1949 e.V.
REFRESH-INTERVAL;VALUE=DURATION:PT1H
X-Robots-Tag:noindex
X-PUBLISHED-TTL:PT1H
BEGIN:VTIMEZONE
TZID:Europe/Berlin
BEGIN:DAYLIGHT
TZOFFSETFROM:+0100
TZOFFSETTO:+0200
TZNAME:CEST
DTSTART:20220327T010000
END:DAYLIGHT
BEGIN:STANDARD
TZOFFSETFROM:+0200
TZOFFSETTO:+0100
TZNAME:CET
DTSTART:20221030T010000
END:STANDARD
BEGIN:DAYLIGHT
TZOFFSETFROM:+0100
TZOFFSETTO:+0200
TZNAME:CEST
DTSTART:20230326T010000
END:DAYLIGHT
BEGIN:STANDARD
TZOFFSETFROM:+0200
TZOFFSETTO:+0100
TZNAME:CET
DTSTART:20231029T010000
END:STANDARD
BEGIN:DAYLIGHT
TZOFFSETFROM:+0100
TZOFFSETTO:+0200
TZNAME:CEST
DTSTART:20240331T010000
END:DAYLIGHT
BEGIN:STANDARD
TZOFFSETFROM:+0200
TZOFFSETTO:+0100
TZNAME:CET
DTSTART:20241027T010000
END:STANDARD
END:VTIMEZONE
BEGIN:VEVENT
DTSTART;TZID=Europe/Berlin:20231202T000000
DTEND;TZID=Europe/Berlin:20231203T235959
DTSTAMP:20260423T080736
CREATED:20231201T085015Z
LAST-MODIFIED:20231201T085015Z
UID:1963-1701475200-1701647999@www.tc-hinsbeck.de
SUMMARY:Am 02./3.12.2023 ist das Clubhaus vermietet.
DESCRIPTION:Bitte beachtet\, das ihr an dem Tag nicht ins Clubhaus kommt.
URL:https://www.tc-hinsbeck.de/kalender/am-02-3-12-2023-ist-das-clubhaus-vermietet/
CATEGORIES:Kalender
ATTACH;FMTTYPE=image/jpeg:https://www.tc-hinsbeck.de/wp-content/uploads/2022/11/HTC-Luftbild.jpg
END:VEVENT
BEGIN:VEVENT
DTSTART;TZID=Europe/Berlin:20231230T000000
DTEND;TZID=Europe/Berlin:20231230T235959
DTSTAMP:20260423T080736
CREATED:20231201T085119Z
LAST-MODIFIED:20231201T085119Z
UID:1965-1703894400-1703980799@www.tc-hinsbeck.de
SUMMARY:Am 30.12.2023 ist das Clubhaus vermietet.
DESCRIPTION:Bitte beachtet\, das ihr an dem Tag nicht ins Clubhaus kommt.
URL:https://www.tc-hinsbeck.de/kalender/am-30-12-2023-ist-das-clubhaus-vermietet/
CATEGORIES:Kalender
ATTACH;FMTTYPE=image/jpeg:https://www.tc-hinsbeck.de/wp-content/uploads/2022/11/HTC-Luftbild.jpg
END:VEVENT
END:VCALENDAR